BEGIN:VCALENDAR
VERSION:2.0
PRODID:-//Gove County Medical Center - ECPv6.15.20//NONSGML v1.0//EN
CALSCALE:GREGORIAN
METHOD:PUBLISH
X-WR-CALNAME:Gove County Medical Center
X-ORIGINAL-URL:https://gcmc.org
X-WR-CALDESC:Events for Gove County Medical Center
REFRESH-INTERVAL;VALUE=DURATION:PT1H
X-Robots-Tag:noindex
X-PUBLISHED-TTL:PT1H
BEGIN:VTIMEZONE
TZID:America/Chicago
BEGIN:DAYLIGHT
TZOFFSETFROM:-0600
TZOFFSETTO:-0500
TZNAME:CDT
DTSTART:20190310T080000
END:DAYLIGHT
BEGIN:STANDARD
TZOFFSETFROM:-0500
TZOFFSETTO:-0600
TZNAME:CST
DTSTART:20191103T070000
END:STANDARD
BEGIN:DAYLIGHT
TZOFFSETFROM:-0600
TZOFFSETTO:-0500
TZNAME:CDT
DTSTART:20200308T080000
END:DAYLIGHT
BEGIN:STANDARD
TZOFFSETFROM:-0500
TZOFFSETTO:-0600
TZNAME:CST
DTSTART:20201101T070000
END:STANDARD
BEGIN:DAYLIGHT
TZOFFSETFROM:-0600
TZOFFSETTO:-0500
TZNAME:CDT
DTSTART:20210314T080000
END:DAYLIGHT
BEGIN:STANDARD
TZOFFSETFROM:-0500
TZOFFSETTO:-0600
TZNAME:CST
DTSTART:20211107T070000
END:STANDARD
END:VTIMEZONE
BEGIN:VEVENT
DTSTART;TZID=America/Chicago:20201201T090000
DTEND;TZID=America/Chicago:20201201T120000
DTSTAMP:20260420T045524
CREATED:20201123T164117Z
LAST-MODIFIED:20201123T164117Z
UID:1936-1606813200-1606824000@gcmc.org
SUMMARY:Plastics Clinic
DESCRIPTION:Plastics Clinic with Dr. Potter
URL:https://gcmc.org/event/plastics-clinic/
ATTACH;FMTTYPE=image/png:https://gcmc.org/wp-content/uploads/2020/06/gove-logo.png
END:VEVENT
END:VCALENDAR